BEGIN:VCALENDAR
VERSION:2.0
PRODID:-//Genesis of Pittsburgh - ECPv6.15.17.1//NONSGML v1.0//EN
CALSCALE:GREGORIAN
METHOD:PUBLISH
X-WR-CALNAME:Genesis of Pittsburgh
X-ORIGINAL-URL:https://genesispgh.org
X-WR-CALDESC:Events for Genesis of Pittsburgh
REFRESH-INTERVAL;VALUE=DURATION:PT1H
X-Robots-Tag:noindex
X-PUBLISHED-TTL:PT1H
BEGIN:VTIMEZONE
TZID:UTC
BEGIN:STANDARD
TZOFFSETFROM:+0000
TZOFFSETTO:+0000
TZNAME:UTC
DTSTART:20250101T000000
END:STANDARD
END:VTIMEZONE
BEGIN:VEVENT
DTSTART;TZID=UTC:20260422T120000
DTEND;TZID=UTC:20260422T130000
DTSTAMP:20260420T202216
CREATED:20260330T131108Z
LAST-MODIFIED:20260330T171042Z
UID:15093-1776859200-1776862800@genesispgh.org
SUMMARY:Remote Class | Noon Soothing a Crying Baby
DESCRIPTION:Who Should Attend:Expectant parents\, new caregivers\, grandparents\, and babysitters. Everyone is welcome. \nRemote Admittance Policy: \nALL CLIENTS MUST BE REGISTERED PRIOR TO ATTENDING REMOTE CLASSES. \n★ UPDATE ★Your virtual Baby Buck’s Account will be updated with the allotted amount of Baby Bucks once your questionnaire is completed. Once the class has concluded\, please click the following link. If your partner is participating with you\, each of you should fill out the questionnaire separately.Questionnaires must be completed the same day. \nQuestionnaire Link:https://forms.gle/ETKB8f8NhaTNzn6H8 \nZoom Link: \nhttps://us02web.zoom.us/meetings/85892045831/invitations?signature=R42PrEi-FdFNTquCkac62Xg5gMxt3FaM8cGDk6bEET8 \nAdmittance into this ZOOM Class will only occur between 12:00PM and 12:05PM. \nA few reminders… \n\n\nYour FULL NAME must be visible upon entering the meeting or typed in the chat. \n\n\nMicrophone must remain muted unless you are selected to speak. \n\n\nIf you have any questions\, use the “raised hand” reaction or type it in the chat. \n\n\nExperiencing tech issues or need to leave early? Let us know in the chat. \n\n\nYour cooperation is appreciated.
URL:https://genesispgh.org/event/remote-class-noon-soothing-a-crying-baby/
CATEGORIES:Avalon Classes,Washington Classes,Zoom Classes
ORGANIZER;CN="Danielle":MAILTO:danielle.morgan@genesispgh.org
END:VEVENT
BEGIN:VEVENT
DTSTART;TZID=UTC:20260423T180000
DTEND;TZID=UTC:20260423T190000
DTSTAMP:20260420T202216
CREATED:20260330T151340Z
LAST-MODIFIED:20260330T191244Z
UID:15116-1776967200-1776970800@genesispgh.org
SUMMARY:Remote Class | 6pm Perinatal Mood Disorder
DESCRIPTION:Who Should Attend:Expectant parents\, new caregivers\, grandparents\, and babysitters. Everyone is welcome. \nRemote Admittance Policy: \nALL CLIENTS MUST BE REGISTERED PRIOR TO ATTENDING REMOTE CLASSES. \n★ UPDATE ★Your virtual Baby Buck’s Account will be updated with the allotted amount of Baby Bucks once your questionnaire is completed. Once the class has concluded\, please click the following link. If your partner is participating with you\, each of you should fill out the questionnaire separately.Questionnaires must be completed the same day. \nQuestionnaire Link:https://forms.gle/ETKB8f8NhaTNzn6H8 \nZoom Link:https://us02web.zoom.us/j/88270703801?pwd=adkxaS7CF6qXwFNcCSaHa2HBR1lAAl.1 \nAdmittance into this ZOOM Class will only occur between 6:00PM and 6:05PM. \nA few reminders… \n\n\nYour FULL NAME must be visible upon entering the meeting or typed in the chat. \n\n\nMicrophone must remain muted unless you are selected to speak. \n\n\nIf you have any questions\, use the “raised hand” reaction or type it in the chat. \n\n\nExperiencing tech issues or need to leave early? Let us know in the chat. \n\n\nYour cooperation is appreciated.
URL:https://genesispgh.org/event/remote-class-6pm-perinatal-mood-disorder/
CATEGORIES:Avalon Classes,Washington Classes,Zoom Classes
ORGANIZER;CN="Danielle":MAILTO:danielle.morgan@genesispgh.org
END:VEVENT
BEGIN:VEVENT
DTSTART;VALUE=DATE:20260424
DTEND;VALUE=DATE:20260425
DTSTAMP:20260420T202216
CREATED:20260330T144038Z
LAST-MODIFIED:20260330T144038Z
UID:15112-1776988800-1777075199@genesispgh.org
SUMMARY:1 on 1 Remote Classes
DESCRIPTION:These personalized sessions allow you to ask questions and receive individualized guidance on parenting\, pregnancy\, newborn care\, and family health topics. \nWho Should Attend:Parents\, caregivers\, and anyone seeking individualized support. \nTo Schedule:Please email danielle.morgan@genesispgh.org to arrange your session.
URL:https://genesispgh.org/event/1-on-1-remote-classes-copy-2-2026-02-27-2/2026-04-24/
CATEGORIES:Avalon Classes,Washington Classes,Zoom Classes
END:VEVENT
BEGIN:VEVENT
DTSTART;TZID=UTC:20260427T120000
DTEND;TZID=UTC:20260427T130000
DTSTAMP:20260420T202216
CREATED:20260330T131845Z
LAST-MODIFIED:20260330T171750Z
UID:15097-1777291200-1777294800@genesispgh.org
SUMMARY:Remote Class | Noon Car Seat Safety
DESCRIPTION:Who Should Attend:Expectant parents\, new caregivers\, grandparents\, and babysitters. Everyone is welcome. \nRemote Admittance Policy: \nALL CLIENTS MUST BE REGISTERED PRIOR TO ATTENDING REMOTE CLASSES. \n★ UPDATE ★Your virtual Baby Buck’s Account will be updated with the allotted amount of Baby Bucks once your questionnaire is completed. Once the class has concluded\, please click the following link. If your partner is participating with you\, each of you should fill out the questionnaire separately.Questionnaires must be completed the same day. \nQuestionnaire Link:https://forms.gle/ETKB8f8NhaTNzn6H8 \nZoom Link: \nhttps://us02web.zoom.us/j/86388963853?pwd=9ZVuW5yj76S4NpMbhjvJeAdKy1tvL4.1 \nAdmittance into this ZOOM Class will only occur between 12:00PM and 12:05PM. \nA few reminders… \n\n\nYour FULL NAME must be visible upon entering the meeting or typed in the chat. \n\n\nMicrophone must remain muted unless you are selected to speak. \n\n\nIf you have any questions\, use the “raised hand” reaction or type it in the chat. \n\n\nExperiencing tech issues or need to leave early? Let us know in the chat. \n\n\nYour cooperation is appreciated.
URL:https://genesispgh.org/event/remote-class-noon-car-seat-safety/
CATEGORIES:Avalon Classes,Washington Classes,Zoom Classes
ORGANIZER;CN="Danielle":MAILTO:danielle.morgan@genesispgh.org
END:VEVENT
BEGIN:VEVENT
DTSTART;TZID=UTC:20260428T180000
DTEND;TZID=UTC:20260428T190000
DTSTAMP:20260420T202216
CREATED:20260330T151049Z
LAST-MODIFIED:20260330T190915Z
UID:15113-1777399200-1777402800@genesispgh.org
SUMMARY:Remote Class | 6pm Potty Training
DESCRIPTION:Who Should Attend:Expectant parents\, new caregivers\, grandparents\, and babysitters. Everyone is welcome. \nRemote Admittance Policy: \nALL CLIENTS MUST BE REGISTERED PRIOR TO ATTENDING REMOTE CLASSES. \n★ UPDATE ★Your virtual Baby Buck’s Account will be updated with the allotted amount of Baby Bucks once your questionnaire is completed. Once the class has concluded\, please click the following link. If your partner is participating with you\, each of you should fill out the questionnaire separately.Questionnaires must be completed the same day. \nQuestionnaire Link:https://forms.gle/ETKB8f8NhaTNzn6H8 \nZoom Link:https://us02web.zoom.us/j/82558065761?pwd=rcl54XxjNEbbt0Fdm5IgqLY0uaECcW.1 \nAdmittance into this ZOOM Class will only occur between 6:00PM and 6:05PM. \nA few reminders… \n\n\nYour FULL NAME must be visible upon entering the meeting or typed in the chat. \n\n\nMicrophone must remain muted unless you are selected to speak. \n\n\nIf you have any questions\, use the “raised hand” reaction or type it in the chat. \n\n\nExperiencing tech issues or need to leave early? Let us know in the chat. \n\n\nYour cooperation is appreciated.
URL:https://genesispgh.org/event/remote-class-6pm-potty-training/
CATEGORIES:Avalon Classes,Washington Classes,Zoom Classes
ORGANIZER;CN="Danielle":MAILTO:danielle.morgan@genesispgh.org
END:VEVENT
BEGIN:VEVENT
DTSTART;TZID=UTC:20260429T120000
DTEND;TZID=UTC:20260429T130000
DTSTAMP:20260420T202216
CREATED:20260330T142427Z
LAST-MODIFIED:20260330T182247Z
UID:15099-1777464000-1777467600@genesispgh.org
SUMMARY:Remote Class | Noon Safe Sleep
DESCRIPTION:Who Should Attend:Expectant parents\, new caregivers\, grandparents\, and babysitters. Everyone is welcome. \nRemote Admittance Policy: \nALL CLIENTS MUST BE REGISTERED PRIOR TO ATTENDING REMOTE CLASSES. \n★ UPDATE ★Your virtual Baby Buck’s Account will be updated with the allotted amount of Baby Bucks once your questionnaire is completed. Once the class has concluded\, please click the following link. If your partner is participating with you\, each of you should fill out the questionnaire separately.Questionnaires must be completed the same day. \nQuestionnaire Link:https://forms.gle/ETKB8f8NhaTNzn6H8 \nZoom Link: \nhttps://us02web.zoom.us/j/82195239083?pwd=bGKTCDxvCOuc4QzkoDqXbjJJpaBbPN.1 \nA few reminders… \n\n\nYour FULL NAME must be visible upon entering the meeting or typed in the chat. \n\n\nMicrophone must remain muted unless you are selected to speak. \n\n\nIf you have any questions\, use the “raised hand” reaction or type it in the chat. \n\n\nExperiencing tech issues or need to leave early? Let us know in the chat. \n\n\nYour cooperation is appreciated.
URL:https://genesispgh.org/event/remote-class-noon-safe-sleep/
CATEGORIES:Avalon Classes,Washington Classes,Zoom Classes
ORGANIZER;CN="Danielle":MAILTO:danielle.morgan@genesispgh.org
END:VEVENT
BEGIN:VEVENT
DTSTART;TZID=UTC:20260430T120000
DTEND;TZID=UTC:20260430T130000
DTSTAMP:20260420T202216
CREATED:20260330T143032Z
LAST-MODIFIED:20260330T182813Z
UID:15101-1777550400-1777554000@genesispgh.org
SUMMARY:Remote Class | Noon Substance Use & Pregnancy
DESCRIPTION:Who Should Attend:Expectant parents\, new caregivers\, grandparents\, and babysitters. Everyone is welcome. \nRemote Admittance Policy: \nALL CLIENTS MUST BE REGISTERED PRIOR TO ATTENDING REMOTE CLASSES. \n★ UPDATE ★Your virtual Baby Buck’s Account will be updated with the allotted amount of Baby Bucks once your questionnaire is completed. Once the class has concluded\, please click the following link. If your partner is participating with you\, each of you should fill out the questionnaire separately.Questionnaires must be completed the same day. \nQuestionnaire Link:https://forms.gle/ETKB8f8NhaTNzn6H8 \nZoom Link: \nhttps://us02web.zoom.us/j/85726253228?pwd=wRFlnjgJd0GGTc9OKxPhVBTWKR8kp \nA few reminders… \n\n\nYour FULL NAME must be visible upon entering the meeting or typed in the chat. \n\n\nMicrophone must remain muted unless you are selected to speak. \n\n\nIf you have any questions\, use the “raised hand” reaction or type it in the chat. \n\n\nExperiencing tech issues or need to leave early? Let us know in the chat. \n\n\nYour cooperation is appreciated.
URL:https://genesispgh.org/event/remote-class-noon-substance-use-pregnancy/
CATEGORIES:Avalon Classes,Washington Classes,Zoom Classes
ORGANIZER;CN="Danielle":MAILTO:danielle.morgan@genesispgh.org
END:VEVENT
END:VCALENDAR